BEGIN:VCALENDAR
PRODID:NingEventWidget-v1
VERSION:2.0
METHOD:PUBLISH
BEGIN:VTIMEZONE
TZID:America/Anguilla
X-LIC-LOCATION:America/Anguilla
BEGIN:STANDARD
TZOFFSETFROM:-0400
TZOFFSETTO:-0400
TZNAME:AST
DTSTART:19700101T000000
END:STANDARD
END:VTIMEZONE
BEGIN:VEVENT
UID:1501994:Event:247877
DTSTAMP:20260421T012931Z
SUMMARY:BOLT BARBERS™ \"Hawks For Homeless\"
DESCRIPTION:Guinness World Record Holder of Three World Records in Hai
 rcutting. Ivan Zoot will host BOLT BARBERS™ “Hawks For Homeless”
  event. Get Shorn! Mohawks for A Cause!\n\nShearing free hawks of all 
 types from 5pm until 10pm on Thursday, November 12th. Zoot, alongside 
 our Bolt Barbers will be Shearing FREE mohawks, bi hawks, tri hawks, l
 iberty hawks, design hawks, sliver hawks, double point tapered hawks, 
 faux hawks, and any other hawk you can think of. Shearing will take pl
 ace at Bolt Barbers first barbershop For Social Beasts™. 460 S Sprin
 g Street in Downtown LA.\n\nIvan Zoot and and all our BOLT BARBERS she
 aring FREE hawks onto guys & boys. Bolt Barbers, 460 South Spring Stre
 et, Downtown Los Angeles. visit: www.boltbarbers.com\n\nTo participate
  or donate in Hawks For Homeless, visit http://www.hawksforhomeless.or
 g\n\nHawks For Homeless Enlisted Participants will be asked to raise H
 awk Haircut “dare” donations from friends and family ahead of thei
 r shearing to support The Midnight Mission Homeless Shelter in Downtow
 n Los Angeles.\n\nFor more information visit https://www.mohawksrock.c
 om/events/bolt-barbers-hawks-for
DTSTART;TZID=America/Anguilla:20091112T170000
DTEND;TZID=America/Anguilla:20091112T220000
CATEGORIES:hair, raising, benefit, for, the, midnight, mission, in, dt
 la
LOCATION:BOLT BARBERS™
WEBSITE:http://www.hawksforhomeless.org
URL:http://www.hawksforhomeless.org
CONTACT:(310) 594-3150
ORGANIZER:Mohawk Matt & Ivan Zoot
ATTACH;FMTTYPE="image/jpeg":http://storage.ning.com/topology/rest/1.0/
 file/get/2814663527?profile=original
ATTENDEE;ROLE=REQ-PARTICIPANT;PARTSTAT=ACCEPTED;RSVP=TRUE;CN="Leo Gitz
 ":https://www.mohawksrock.com/profile/LeoGitz
ATTENDEE;ROLE=REQ-PARTICIPANT;PARTSTAT=ACCEPTED;RSVP=TRUE;CN="Mohawk M
 att":https://www.mohawksrock.com/profile/MohawkMatt
ATTENDEE;ROLE=REQ-PARTICIPANT;PARTSTAT=TENTATIVE;RSVP=TRUE;CN="daniel 
 martinez":https://www.mohawksrock.com/profile/danielmartinez
ATTENDEE;ROLE=REQ-PARTICIPANT;PARTSTAT=TENTATIVE;RSVP=TRUE;CN=Rbiker66
 6:https://www.mohawksrock.com/profile/Rick
ATTENDEE;ROLE=REQ-PARTICIPANT;PARTSTAT=TENTATIVE;RSVP=TRUE;CN="Giant M
 ohawk Man":https://www.mohawksrock.com/profile/giantmohawkman
END:VEVENT
END:VCALENDAR
