BEGIN:VCALENDAR
PRODID:NingEventWidget-v1
VERSION:2.0
METHOD:PUBLISH
BEGIN:VTIMEZONE
TZID:America/Anguilla
X-LIC-LOCATION:America/Anguilla
BEGIN:STANDARD
TZOFFSETFROM:-0400
TZOFFSETTO:-0400
TZNAME:AST
DTSTART:19700101T000000
END:STANDARD
END:VTIMEZONE
BEGIN:VEVENT
UID:1501994:Event:716030
DTSTAMP:20260422T145353Z
SUMMARY:get fucked up!
DESCRIPTION:just another day to get drunk as fuck and stoned outta you
 r tree and if you straight edge why the fuck are you evan reading this
 ?\n\nFor more information visit https://www.mohawksrock.com/events/get
 -fucked-up
DTSTART;TZID=America/Anguilla:20120127T210000
DTEND;TZID=America/Anguilla:20120129T120000
CATEGORIES:world, round, party
LOCATION:Home
WEBSITE:
URL:
CONTACT:
ORGANIZER;CN="Alexandera Vanity":https://www.mohawksrock.com/profile/A
 lexanderaVanity
ATTACH;FMTTYPE="image/jpeg":
ATTENDEE;ROLE=REQ-PARTICIPANT;PARTSTAT=ACCEPTED;RSVP=TRUE;CN="Leo Gitz
 ":https://www.mohawksrock.com/profile/LeoGitz
ATTENDEE;ROLE=REQ-PARTICIPANT;PARTSTAT=ACCEPTED;RSVP=TRUE;CN="Brian \"
 B Rotten'":https://www.mohawksrock.com/profile/BrianBarraza
ATTENDEE;ROLE=REQ-PARTICIPANT;PARTSTAT=ACCEPTED;RSVP=TRUE;CN=Eurohawk:
 https://www.mohawksrock.com/profile/MavericMyke
ATTENDEE;ROLE=REQ-PARTICIPANT;PARTSTAT=ACCEPTED;RSVP=TRUE;CN=Sonny:htt
 ps://www.mohawksrock.com/profile/SunnydLite
ATTENDEE;ROLE=REQ-PARTICIPANT;PARTSTAT=ACCEPTED;RSVP=TRUE;CN="Alexande
 ra Vanity":https://www.mohawksrock.com/profile/AlexanderaVanity
END:VEVENT
END:VCALENDAR
