BEGIN:VCALENDAR
PRODID:NingEventWidget-v1
VERSION:2.0
METHOD:PUBLISH
BEGIN:VTIMEZONE
TZID:America/Anguilla
X-LIC-LOCATION:America/Anguilla
BEGIN:STANDARD
TZOFFSETFROM:-0400
TZOFFSETTO:-0400
TZNAME:AST
DTSTART:19700101T000000
END:STANDARD
END:VTIMEZONE
BEGIN:VEVENT
UID:1501994:Event:664564
DTSTAMP:20260421T214524Z
SUMMARY:LONG BEACH ZOMBIE WALK IV + STREET FEST & CONCERT
DESCRIPTION:The undead return to Long Beach for the 4th time, this tim
 e taking over downtown Long Beach for a full day-long street fest and 
 WORLD RECORD attempt!\n\nThe world record stands at 4,800 in Seattle, 
 WA - Long Beach, we can do better! Come all day for fun and music, but
  be sure to join us on Broadway & Pine at 8pm sharp to march, stagger,
  and lurch down Pine!! \n\nJOHNNY VATOS' BOINGO DANCE PARTY - Oingo Bo
 ingo drummer Johnny Vatos has assembled original band members to take 
 the Press Telegram stage at 9pm to celebrate our world record attempt 
 with two sets of Oingo Boingo favorites! http://www.johnnyvatos.com/\n
 \nTHRILL THE WORLD LOS ANGELES - Thrill the World L.A. will be attempt
 ing a world record of their own - LARGEST CHOREOGRAPHED \"THRILLER\" M
 ASS DANCE! Dancers, e-mail gilbert.ttwla@gmail.com for info! http://ww
 w.thrilltheworldlosangeles.com/\n\nPLUS:\n\n* HAUNTED HOUSE hosted by 
 Shannon's on Pine!\n\n* ZOMBIE ART SHOW, curated by Jason Liwag and Ga
 rry Booth (Phone Booth Gallery), hosted by Long Beach Pedaler's Societ
 y, and with wine by Art du Vin Wine Bar! http://www.facebook.com/Zombi
 eArtShow\n\n* BEER TENTS (21+, natch!)\n\n* MAKE-UP STATIONS - profess
 ional artists located throughout the walk zone, curated by Brian Stock
  Makeup Effects!\n\n* VENDORS AND ARTISTS lined up along Pine Ave. and
  displaying their horror/zombie/cult cinema wares! (Interested in part
 icipating? E-mail ZombieWalkLB@gmail.com!)\n\n* LOCAL BANDS throughout
  the day!\n\nWe're still lining this up and making it our biggest Zomb
 ie Walk yet!! Keep posted at http://www.facebook.com/ZombieWalkLB, and
  check out our website http://zombiewalklb.com/ when it fully launches
  this Tuesday, August 23!\n\n$8 pre-sale tickets and Long Beach Comic-
 Con packages available soon! $10 at Gate. Proceeds to benefit the Long
  Beach Cinematheque (http://lbcinema.org/), as well as Friends of Long
  Beach Animals (http://www.friendsoflongbeachanimals.org/), and Specia
 l Olympics Southern California (http://www.sosc.org/). Free for ages 1
 3 and under.\n\nBRAAAAAAAAAAAAAAAAAAAAAAAAAAAINS!!!\n\nFor more inform
 ation visit https://www.mohawksrock.com/events/long-beach-zombie-walk-
 iv-street-fest-concert
DTSTART;TZID=America/Anguilla:20111029T000000
DTEND;TZID=America/Anguilla:20111029T235900
CATEGORIES:street, walk
LOCATION:Pine Avenue
WEBSITE:
URL:
CONTACT:
ORGANIZER:Zombie horde
ATTACH;FMTTYPE="image/jpeg":http://storage.ning.com/topology/rest/1.0/
 file/get/2814723304?profile=original
ATTENDEE;ROLE=REQ-PARTICIPANT;PARTSTAT=ACCEPTED;RSVP=TRUE;CN="Leo Gitz
 ":https://www.mohawksrock.com/profile/LeoGitz
ATTENDEE;ROLE=REQ-PARTICIPANT;PARTSTAT=ACCEPTED;RSVP=TRUE;CN=Grit:http
 s://www.mohawksrock.com/profile/GritTeophil
ATTENDEE;ROLE=REQ-PARTICIPANT;PARTSTAT=TENTATIVE;RSVP=TRUE;CN="Jenn Ta
 stes Good":https://www.mohawksrock.com/profile/jennJanet
END:VEVENT
END:VCALENDAR
