BEGIN:VCALENDAR
PRODID:NingEventWidget-v1
VERSION:2.0
METHOD:PUBLISH
BEGIN:VTIMEZONE
TZID:America/Anguilla
X-LIC-LOCATION:America/Anguilla
BEGIN:STANDARD
TZOFFSETFROM:-0400
TZOFFSETTO:-0400
TZNAME:AST
DTSTART:19700101T000000
END:STANDARD
END:VTIMEZONE
BEGIN:VEVENT
UID:1501994:Event:462895
DTSTAMP:20260420T013815Z
SUMMARY:Nice'n'Sleazy
DESCRIPTION:\n\ntrimpell sports and social club out moss lane morecamb
 e la4 4up ,..the bandsBoomtown rats The Business+keyside strike prairi
 e dugz .boredom. the kingcrows acid drop the minx the drastics natural
  rhythm. hospital food total bloody chaos. potential victims Joe Viter
 bo thresholdshift. the kirkz. billy lair. back biter. RBH .geoffrey oi
 cott .radio dead 'ones. Clan Bastardo. no thrills. charred hearts .low
 life uk .paul carter .3cr . rough neck riot .thepain flatback four l t
 ruebeat. skud puppets. straighten out.total confusion.hardcase.death d
 isco.return of the radicals .hooligan uk.forIEgn legion.rasta4eyes.the
  guilty pleasures. suckin diesel. james bar bowen.mispelt2.0. I want c
 omplete control .the dEAD CLASS ,more tbc between now and may tickets 
 availabe at £33 up to march 31st after that £35 online or £40 from 
 the box office visit www.nicensleazy.co.uk/ where various methods of p
 ayments are on the site\n\n\n\n\n\nFor more information visit https://
 www.mohawksrock.com/events/nicensleazy-1
DTSTART;TZID=America/Anguilla:20110527T170000
DTEND;TZID=America/Anguilla:20110529T233000
CATEGORIES:festival
LOCATION:Trimpell Sports and Social Club
WEBSITE:http://www.nicensleazy.co.uk/
URL:http://www.nicensleazy.co.uk/
CONTACT:
ORGANIZER:Ivan Harrison
ATTACH;FMTTYPE="image/jpeg":http://storage.ning.com/topology/rest/1.0/
 file/get/2814711139?profile=original
ATTENDEE;ROLE=REQ-PARTICIPANT;PARTSTAT=ACCEPTED;RSVP=TRUE;CN=Rex:https
 ://www.mohawksrock.com/profile/RexKennedy
ATTENDEE;ROLE=REQ-PARTICIPANT;PARTSTAT=ACCEPTED;RSVP=TRUE;CN=Koreanfuc
 k:https://www.mohawksrock.com/profile/Koreanfuck
END:VEVENT
END:VCALENDAR
