BEGIN:VCALENDAR
PRODID:NingEventWidget-v1
VERSION:2.0
METHOD:PUBLISH
BEGIN:VTIMEZONE
TZID:America/Anguilla
X-LIC-LOCATION:America/Anguilla
BEGIN:STANDARD
TZOFFSETFROM:-0400
TZOFFSETTO:-0400
TZNAME:AST
DTSTART:19700101T000000
END:STANDARD
END:VTIMEZONE
BEGIN:VEVENT
UID:1501994:Event:709021
DTSTAMP:20260419T205938Z
SUMMARY:Slick 78 Live At Evolution Records
DESCRIPTION:Please join us as we ring in the New Year with an evening 
 of live music at Evolution Records in Downtown Lakeland featuring a li
 ne-up of some our favorite bands: Slick 78, Signal92, Ghost of Mississ
 ippi, and Attention,Perfection! Doors open at 6. Music starts at 7ish.
  $5 entry.  For you discerning types, samples of the artists' work ca
 n be found here:  https://www.facebook.com/ghostofmississippi  https:/
 /www.facebook.com/Signal92  https://www.facebook.com/SLICK78FL  https:
 //www.facebook.com/AttentionPerfection\n\nFor more information visit h
 ttps://www.mohawksrock.com/events/slick-78-live-at-evolution-records
DTSTART;TZID=America/Anguilla:20111231T180000
DTEND;TZID=America/Anguilla:20120101T000000
CATEGORIES:concert
LOCATION:Evolution Records
WEBSITE:
URL:
CONTACT:
ORGANIZER;CN="Skully Stitches":https://www.mohawksrock.com/profile/Sku
 llyStitches
ATTACH;FMTTYPE="image/jpeg":http://storage.ning.com/topology/rest/1.0/
 file/get/2814730724?profile=original
ATTENDEE;ROLE=REQ-PARTICIPANT;PARTSTAT=ACCEPTED;RSVP=TRUE;CN="Skully S
 titches":https://www.mohawksrock.com/profile/SkullyStitches
END:VEVENT
END:VCALENDAR
