BEGIN:VCALENDAR
PRODID:NingEventWidget-v1
VERSION:2.0
METHOD:PUBLISH
BEGIN:VTIMEZONE
TZID:America/Anguilla
X-LIC-LOCATION:America/Anguilla
BEGIN:STANDARD
TZOFFSETFROM:-0400
TZOFFSETTO:-0400
TZNAME:AST
DTSTART:19700101T000000
END:STANDARD
END:VTIMEZONE
BEGIN:VEVENT
UID:1501994:Event:708853
DTSTAMP:20260422T145352Z
SUMMARY:Slick 78 @ The Haven
DESCRIPTION:Please Join Us For A Night Of Live Music Featuring:\nSlick
  78:https://www.facebook.com/SLICK78FL\nSignal 92: https://www.faceboo
 k.com/Signal92 Attention, Perfection!: https://www.facebook.com/Attent
 ionPerfection\n\nFor more information visit https://www.mohawksrock.co
 m/events/slick-78-the-haven
DTSTART;TZID=America/Anguilla:20120113T180000
DTEND;TZID=America/Anguilla:20120113T210000
CATEGORIES:concert
LOCATION:The Haven Lounge
WEBSITE:
URL:
CONTACT:
ORGANIZER;CN="Skully Stitches":https://www.mohawksrock.com/profile/Sku
 llyStitches
ATTACH;FMTTYPE="image/jpeg":http://storage.ning.com/topology/rest/1.0/
 file/get/2814730509?profile=original
ATTENDEE;ROLE=REQ-PARTICIPANT;PARTSTAT=ACCEPTED;RSVP=TRUE;CN="Skully S
 titches":https://www.mohawksrock.com/profile/SkullyStitches
END:VEVENT
END:VCALENDAR
